
BEGIN:VCALENDAR
VERSION:2.0
PRODID:-//hacksw/handcal//NONSGML v1.0//EN
BEGIN:VEVENT
DTSTAMP:20190621T160600
DTSTART:20190621T160600
DTEND:20190623T180600
LOCATION: 
SUMMARY: XV. Tihanyi Levendula Fesztivál és Levendula Hetek
DESCRIPTION:XV. Tihanyi Levendula Fesztivál és Levendula Hetek, bővebben: https://dbhir.hu/program/2019-06-21/XV-Tihanyi-Levendula-Fesztival-es-Levendula-Hetek
END:VEVENT
END:VCALENDAR