
BEGIN:VCALENDAR
VERSION:2.0
PRODID:-//hacksw/handcal//NONSGML v1.0//EN
BEGIN:VEVENT
DTSTAMP:20240822T150800
DTSTART:20240822T150800
DTEND:20240824T230859
LOCATION: Zamárdi
SUMMARY: Strand Fesztivál 2024
DESCRIPTION:Strand Fesztivál 2024, bővebben: https://dbhir.hu/program/2024-08-22/Strand-Fesztival-2024
END:VEVENT
END:VCALENDAR