
BEGIN:VCALENDAR
VERSION:2.0
PRODID:-//hacksw/handcal//NONSGML v1.0//EN
BEGIN:VEVENT
DTSTAMP:20190819T200830
DTSTART:20190819T200830
DTEND:20190819T200830
LOCATION: Balatonföldvár Kultkikötő
SUMMARY: Hungarian nights
DESCRIPTION:Hungarian nights, bővebben: https://dbhir.hu/program/2019-08-19/Hungarian-nights
END:VEVENT
END:VCALENDAR