
BEGIN:VCALENDAR
VERSION:2.0
PRODID:-//hacksw/handcal//NONSGML v1.0//EN
BEGIN:VEVENT
DTSTAMP:20240719T100700
DTSTART:20240719T100700
DTEND:20240728T220700
LOCATION: Kapolcs
SUMMARY: 33. Művészetek Völgye Fesztivál
DESCRIPTION:33. Művészetek Völgye Fesztivál, bővebben: https://dbhir.hu/program/2024-07-19/33-Muveszetek-Volgye-Fesztival
END:VEVENT
END:VCALENDAR